BEGIN:VCALENDAR
PRODID:-//spiritec//spiritec media library//EN
VERSION:2.0
METHOD:PUBLISH
BEGIN:VEVENT
UID:ical-2026-05-01-1868
DTSTART:20260501T130000Z
DTSTAMP:20260423T015817Z
LOCATION:Am Warmen Damm
SUMMARY:Maifestspiele für alle
DESCRIPTION:
CREATED:20260423T015817Z
DTEND:20260501T130000Z
END:VEVENT
END:VCALENDAR
