BEGIN:VCALENDAR
PRODID:-//spiritec//spiritec media library//EN
VERSION:2.0
METHOD:PUBLISH
BEGIN:VEVENT
UID:ical-2026-05-19-1914
DTSTART:20260519T160000Z
DTSTAMP:20260424T011905Z
LOCATION:Probebühne Wartburg
SUMMARY:dienstag
DESCRIPTION:
CREATED:20260424T011905Z
DTEND:20260519T160000Z
END:VEVENT
END:VCALENDAR
