BEGIN:VCALENDAR
PRODID:-//spiritec//spiritec media library//EN
VERSION:2.0
METHOD:PUBLISH
BEGIN:VEVENT
UID:ical-2026-05-27-1923
DTSTART:20260527T173000Z
DTSTAMP:20260423T180322Z
LOCATION:Studio
SUMMARY:Actor's Studio: Tatortreiniger Vol.2
DESCRIPTION:
CREATED:20260423T180322Z
DTEND:20260527T183500Z
END:VEVENT
END:VCALENDAR
