BEGIN:VCALENDAR
PRODID:-//spiritec//spiritec media library//EN
VERSION:2.0
METHOD:PUBLISH
BEGIN:VEVENT
UID:ical-2026-05-30-1924
DTSTART:20260530T080000Z
DTSTAMP:20260423T185304Z
LOCATION:Großer Ballettsaal
SUMMARY:Antanzen
DESCRIPTION:
CREATED:20260423T185304Z
DTEND:20260530T080000Z
END:VEVENT
END:VCALENDAR
