BEGIN:VCALENDAR
PRODID:-//spiritec//spiritec media library//EN
VERSION:2.0
METHOD:PUBLISH
BEGIN:VEVENT
UID:ical-2026-05-08-1927
DTSTART:20260508T160000Z
DTSTAMP:20260423T134307Z
LOCATION:Studio
SUMMARY:Szenenwechsel
DESCRIPTION:
CREATED:20260423T134307Z
DTEND:20260508T160000Z
END:VEVENT
END:VCALENDAR
