BEGIN:VCALENDAR
PRODID:-//spiritec//spiritec media library//EN
VERSION:2.0
METHOD:PUBLISH
BEGIN:VEVENT
UID:ical-2026-04-22-1928
DTSTART:20260422T191500Z
DTSTAMP:20260423T060804Z
LOCATION:Foyer Großes Haus
SUMMARY:Pubquiz zu Leonce und Lena
DESCRIPTION:
CREATED:20260423T060804Z
DTEND:20260422T191500Z
END:VEVENT
END:VCALENDAR
