BEGIN:VCALENDAR
PRODID:-//spiritec//spiritec media library//EN
VERSION:2.0
METHOD:PUBLISH
BEGIN:VEVENT
UID:ical-2026-11-28-1934
DTSTART:20261128T183000Z
DTSTAMP:20260423T183102Z
LOCATION:Großes Haus
SUMMARY:La Bohème
DESCRIPTION:
CREATED:20260423T183102Z
DTEND:20261128T183000Z
END:VEVENT
END:VCALENDAR
