BEGIN:VCALENDAR
PRODID:-//spiritec//spiritec media library//EN
VERSION:2.0
METHOD:PUBLISH
BEGIN:VEVENT
UID:ical-2027-05-01-1952
DTSTART:20270501T173000Z
DTSTAMP:20260423T135202Z
LOCATION:Großes Haus
SUMMARY:Pelléas  et Mélisande
DESCRIPTION:
CREATED:20260423T135202Z
DTEND:20270501T173000Z
END:VEVENT
END:VCALENDAR
