BEGIN:VCALENDAR
PRODID:-//spiritec//spiritec media library//EN
VERSION:2.0
METHOD:PUBLISH
BEGIN:VEVENT
UID:ical-2027-04-08-1962
DTSTART:20270408T080000Z
DTSTAMP:20260423T172836Z
LOCATION:Großes Haus
SUMMARY:Karneval der Tiere
DESCRIPTION:
CREATED:20260423T172836Z
DTEND:20270408T080000Z
END:VEVENT
END:VCALENDAR
