BEGIN:VCALENDAR
PRODID:-//spiritec//spiritec media library//EN
VERSION:2.0
METHOD:PUBLISH
BEGIN:VEVENT
UID:ical-2026-06-11-1966
DTSTART:20260611T173000Z
DTSTAMP:20260422T214734Z
LOCATION:Kleines Haus
SUMMARY:Ciao amore!
DESCRIPTION:
CREATED:20260422T214734Z
DTEND:20260611T173000Z
END:VEVENT
END:VCALENDAR
