BEGIN:VCALENDAR
PRODID:-//spiritec//spiritec media library//EN
VERSION:2.0
METHOD:PUBLISH
BEGIN:VEVENT
UID:ical-2026-06-17-1986
DTSTART:20260617T180000Z
DTSTAMP:20260425T164558Z
LOCATION:Kleines Haus
SUMMARY:Futur4
DESCRIPTION:
CREATED:20260425T164558Z
DTEND:20260617T180000Z
END:VEVENT
END:VCALENDAR
