BEGIN:VCALENDAR
PRODID:-//spiritec//spiritec media library//EN
VERSION:2.0
METHOD:PUBLISH
BEGIN:VEVENT
UID:ical-2026-06-08-1999
DTSTART:20260608T170000Z
DTSTAMP:20260424T021354Z
LOCATION:Foyer Großes Haus
SUMMARY:Lieder-Soiree
DESCRIPTION:
CREATED:20260424T021354Z
DTEND:20260608T170000Z
END:VEVENT
END:VCALENDAR
