BEGIN:VCALENDAR
PRODID:-//spiritec//spiritec media library//EN
VERSION:2.0
METHOD:PUBLISH
BEGIN:VEVENT
UID:ical-2026-06-22-2038
DTSTART:20260622T173000Z
DTSTAMP:20260425T020815Z
LOCATION:Kleines Haus
SUMMARY:Garland
DESCRIPTION:
CREATED:20260425T020815Z
DTEND:20260622T173000Z
END:VEVENT
END:VCALENDAR
