BEGIN:VCALENDAR
PRODID:-//spiritec//spiritec media library//EN
VERSION:2.0
METHOD:PUBLISH
BEGIN:VEVENT
UID:ical-2026-06-21-2051
DTSTART:20260621T130000Z
DTSTAMP:20260425T022036Z
LOCATION:Festivalgarten
SUMMARY:Stadtgespräch 3
DESCRIPTION:
CREATED:20260425T022036Z
DTEND:20260621T130000Z
END:VEVENT
END:VCALENDAR
