BEGIN:VCALENDAR
PRODID:-//spiritec//spiritec media library//EN
VERSION:2.0
METHOD:PUBLISH
BEGIN:VEVENT
UID:ical-2026-06-19-2053
DTSTART:20260619T180000Z
DTSTAMP:20260425T020716Z
LOCATION:Wartburg
SUMMARY:ZAPFENSTREICH
DESCRIPTION:
CREATED:20260425T020716Z
DTEND:20260619T180000Z
END:VEVENT
END:VCALENDAR
