BEGIN:VCALENDAR
PRODID:-//spiritec//spiritec media library//EN
VERSION:2.0
METHOD:PUBLISH
BEGIN:VEVENT
UID:ical-2026-08-22-2061
DTSTART:20260821T220000Z
DTSTAMP:20260423T164700Z
LOCATION:Alle Bühnen
SUMMARY:Theaterfest
DESCRIPTION:
CREATED:20260423T164700Z
DTEND:20260821T220000Z
END:VEVENT
END:VCALENDAR
