BEGIN:VCALENDAR
PRODID:-//spiritec//spiritec media library//EN
VERSION:2.0
METHOD:PUBLISH
BEGIN:VEVENT
UID:ical-2026-12-11-2072
DTSTART:20261211T183000Z
DTSTAMP:20260423T135201Z
LOCATION:Großes Haus
SUMMARY:Hänsel und Gretel
DESCRIPTION:
CREATED:20260423T135201Z
DTEND:20261211T183000Z
END:VEVENT
END:VCALENDAR
