BEGIN:VCALENDAR
PRODID:-//spiritec//spiritec media library//EN
VERSION:2.0
METHOD:PUBLISH
BEGIN:VEVENT
UID:ical-2026-12-26-2085
DTSTART:20261226T100000Z
DTSTAMP:20260423T135201Z
LOCATION:Großes Haus
SUMMARY:Herr Bello und das blaue Wunder
DESCRIPTION:
CREATED:20260423T135201Z
DTEND:20261226T100000Z
END:VEVENT
END:VCALENDAR
