BEGIN:VCALENDAR
PRODID:-//spiritec//spiritec media library//EN
VERSION:2.0
METHOD:PUBLISH
BEGIN:VEVENT
UID:ical-2027-01-27-2096
DTSTART:20270127T183000Z
DTSTAMP:20260423T155049Z
LOCATION:Großes Haus
SUMMARY:Romeo und Julia
DESCRIPTION:
CREATED:20260423T155049Z
DTEND:20270127T212000Z
END:VEVENT
END:VCALENDAR
