BEGIN:VCALENDAR
PRODID:-//spiritec//spiritec media library//EN
VERSION:2.0
METHOD:PUBLISH
BEGIN:VEVENT
UID:ical-2026-11-21-2104
DTSTART:20261121T183000Z
DTSTAMP:20260423T164533Z
LOCATION:Großes Haus
SUMMARY:Alles Liebe!
DESCRIPTION:
CREATED:20260423T164533Z
DTEND:20261121T210000Z
END:VEVENT
END:VCALENDAR
