BEGIN:VCALENDAR
PRODID:-//spiritec//spiritec media library//EN
VERSION:2.0
METHOD:PUBLISH
BEGIN:VEVENT
UID:ical-2027-01-24-2107
DTSTART:20270124T170000Z
DTSTAMP:20260423T164535Z
LOCATION:Großes Haus
SUMMARY:Alles Liebe!
DESCRIPTION:
CREATED:20260423T164535Z
DTEND:20270124T193000Z
END:VEVENT
END:VCALENDAR
