BEGIN:VCALENDAR
PRODID:-//spiritec//spiritec media library//EN
VERSION:2.0
METHOD:PUBLISH
BEGIN:VEVENT
UID:ical-2027-03-28-2120
DTSTART:20270328T173000Z
DTSTAMP:20260423T164552Z
LOCATION:Großes Haus
SUMMARY:La Bohème
DESCRIPTION:
CREATED:20260423T164552Z
DTEND:20270328T173000Z
END:VEVENT
END:VCALENDAR
