BEGIN:VCALENDAR
PRODID:-//spiritec//spiritec media library//EN
VERSION:2.0
METHOD:PUBLISH
BEGIN:VEVENT
UID:ical-2026-09-19-2122
DTSTART:20260919T173000Z
DTSTAMP:20260423T175328Z
LOCATION:Großes Haus
SUMMARY:Summertime
DESCRIPTION:
CREATED:20260423T175328Z
DTEND:20260919T190500Z
END:VEVENT
END:VCALENDAR
