BEGIN:VCALENDAR
PRODID:-//spiritec//spiritec media library//EN
VERSION:2.0
METHOD:PUBLISH
BEGIN:VEVENT
UID:ical-2027-03-21-2126
DTSTART:20270321T170000Z
DTSTAMP:20260423T164552Z
LOCATION:Großes Haus
SUMMARY:Dantons Tod
DESCRIPTION:
CREATED:20260423T164552Z
DTEND:20270321T170000Z
END:VEVENT
END:VCALENDAR
