BEGIN:VCALENDAR
PRODID:-//spiritec//spiritec media library//EN
VERSION:2.0
METHOD:PUBLISH
BEGIN:VEVENT
UID:ical-2027-04-30-2129
DTSTART:20270430T173000Z
DTSTAMP:20260423T153847Z
LOCATION:Großes Haus
SUMMARY:Dantons Tod
DESCRIPTION:
CREATED:20260423T153847Z
DTEND:20270430T173000Z
END:VEVENT
END:VCALENDAR
