BEGIN:VCALENDAR
PRODID:-//spiritec//spiritec media library//EN
VERSION:2.0
METHOD:PUBLISH
BEGIN:VEVENT
UID:ical-2027-03-07-2134
DTSTART:20270307T150000Z
DTSTAMP:20260423T164536Z
LOCATION:Großes Haus
SUMMARY:Dido and Aeneas
DESCRIPTION:
CREATED:20260423T164536Z
DTEND:20270307T150000Z
END:VEVENT
END:VCALENDAR
