BEGIN:VCALENDAR
PRODID:-//spiritec//spiritec media library//EN
VERSION:2.0
METHOD:PUBLISH
BEGIN:VEVENT
UID:ical-2027-06-24-2136
DTSTART:20270624T173000Z
DTSTAMP:20260423T164515Z
LOCATION:Großes Haus
SUMMARY:Dido and Aeneas
DESCRIPTION:
CREATED:20260423T164515Z
DTEND:20270624T173000Z
END:VEVENT
END:VCALENDAR
