BEGIN:VCALENDAR
PRODID:-//spiritec//spiritec media library//EN
VERSION:2.0
METHOD:PUBLISH
BEGIN:VEVENT
UID:ical-2026-10-18-2142
DTSTART:20261018T140000Z
DTSTAMP:20260423T164534Z
LOCATION:Großes Haus
SUMMARY:Hoffmanns Erzählungen
DESCRIPTION:
CREATED:20260423T164534Z
DTEND:20261018T140000Z
END:VEVENT
END:VCALENDAR
