BEGIN:VCALENDAR
PRODID:-//spiritec//spiritec media library//EN
VERSION:2.0
METHOD:PUBLISH
BEGIN:VEVENT
UID:ical-2026-11-20-2145
DTSTART:20261120T183000Z
DTSTAMP:20260423T164514Z
LOCATION:Großes Haus
SUMMARY:Hoffmanns Erzählungen
DESCRIPTION:
CREATED:20260423T164514Z
DTEND:20261120T183000Z
END:VEVENT
END:VCALENDAR
