BEGIN:VCALENDAR
PRODID:-//spiritec//spiritec media library//EN
VERSION:2.0
METHOD:PUBLISH
BEGIN:VEVENT
UID:ical-2027-04-24-2153
DTSTART:20270424T173000Z
DTSTAMP:20260423T153847Z
LOCATION:Großes Haus
SUMMARY:Aufstieg und Fall der Stadt Mahagonny
DESCRIPTION:
CREATED:20260423T153847Z
DTEND:20270424T173000Z
END:VEVENT
END:VCALENDAR
