BEGIN:VCALENDAR
PRODID:-//spiritec//spiritec media library//EN
VERSION:2.0
METHOD:PUBLISH
BEGIN:VEVENT
UID:ical-2027-01-08-2157
DTSTART:20270108T183000Z
DTSTAMP:20260423T164514Z
LOCATION:Großes Haus
SUMMARY:La Mamma!
DESCRIPTION:
CREATED:20260423T164514Z
DTEND:20270108T204500Z
END:VEVENT
END:VCALENDAR
