BEGIN:VCALENDAR
PRODID:-//spiritec//spiritec media library//EN
VERSION:2.0
METHOD:PUBLISH
BEGIN:VEVENT
UID:ical-2026-10-09-2160
DTSTART:20261009T173000Z
DTSTAMP:20260423T164533Z
LOCATION:Großes Haus
SUMMARY:Mephisto
DESCRIPTION:
CREATED:20260423T164533Z
DTEND:20261009T193000Z
END:VEVENT
END:VCALENDAR
