BEGIN:VCALENDAR
PRODID:-//spiritec//spiritec media library//EN
VERSION:2.0
METHOD:PUBLISH
BEGIN:VEVENT
UID:ical-2026-11-11-2162
DTSTART:20261111T183000Z
DTSTAMP:20260423T164534Z
LOCATION:Großes Haus
SUMMARY:Mephisto
DESCRIPTION:
CREATED:20260423T164534Z
DTEND:20261111T203000Z
END:VEVENT
END:VCALENDAR
