BEGIN:VCALENDAR
PRODID:-//spiritec//spiritec media library//EN
VERSION:2.0
METHOD:PUBLISH
BEGIN:VEVENT
UID:ical-2027-02-13-2164
DTSTART:20270213T183000Z
DTSTAMP:20260423T172311Z
LOCATION:Großes Haus
SUMMARY:Mephisto
DESCRIPTION:
CREATED:20260423T172311Z
DTEND:20270213T203000Z
END:VEVENT
END:VCALENDAR
