BEGIN:VCALENDAR
PRODID:-//spiritec//spiritec media library//EN
VERSION:2.0
METHOD:PUBLISH
BEGIN:VEVENT
UID:ical-2026-11-19-2169
DTSTART:20261119T183000Z
DTSTAMP:20260423T225735Z
LOCATION:Großes Haus
SUMMARY:Metropolis Wiesbaden
DESCRIPTION:
CREATED:20260423T225735Z
DTEND:20261119T183000Z
END:VEVENT
END:VCALENDAR
