BEGIN:VCALENDAR
PRODID:-//spiritec//spiritec media library//EN
VERSION:2.0
METHOD:PUBLISH
BEGIN:VEVENT
UID:ical-2026-11-07-2172
DTSTART:20261107T183000Z
DTSTAMP:20260423T164514Z
LOCATION:Großes Haus
SUMMARY:Nachtträume
DESCRIPTION:
CREATED:20260423T164514Z
DTEND:20261107T183000Z
END:VEVENT
END:VCALENDAR
