BEGIN:VCALENDAR
PRODID:-//spiritec//spiritec media library//EN
VERSION:2.0
METHOD:PUBLISH
BEGIN:VEVENT
UID:ical-2027-03-14-2182
DTSTART:20270314T170000Z
DTSTAMP:20260423T164536Z
LOCATION:Großes Haus
SUMMARY:Eugen Onegin
DESCRIPTION:
CREATED:20260423T164536Z
DTEND:20270314T170000Z
END:VEVENT
END:VCALENDAR
