BEGIN:VCALENDAR
PRODID:-//spiritec//spiritec media library//EN
VERSION:2.0
METHOD:PUBLISH
BEGIN:VEVENT
UID:ical-2027-04-23-2186
DTSTART:20270423T173000Z
DTSTAMP:20260423T153846Z
LOCATION:Großes Haus
SUMMARY:Eugen Onegin
DESCRIPTION:
CREATED:20260423T153846Z
DTEND:20270423T173000Z
END:VEVENT
END:VCALENDAR
