BEGIN:VCALENDAR
PRODID:-//spiritec//spiritec media library//EN
VERSION:2.0
METHOD:PUBLISH
BEGIN:VEVENT
UID:ical-2026-10-04-2195
DTSTART:20261004T160000Z
DTSTAMP:20260423T164552Z
LOCATION:Großes Haus
SUMMARY:Silent Echo
DESCRIPTION:
CREATED:20260423T164552Z
DTEND:20261004T160000Z
END:VEVENT
END:VCALENDAR
