BEGIN:VCALENDAR
PRODID:-//spiritec//spiritec media library//EN
VERSION:2.0
METHOD:PUBLISH
BEGIN:VEVENT
UID:ical-2026-10-11-2196
DTSTART:20261011T173000Z
DTSTAMP:20260423T164514Z
LOCATION:Großes Haus
SUMMARY:Silent Echo
DESCRIPTION:
CREATED:20260423T164514Z
DTEND:20261011T173000Z
END:VEVENT
END:VCALENDAR
