BEGIN:VCALENDAR
PRODID:-//spiritec//spiritec media library//EN
VERSION:2.0
METHOD:PUBLISH
BEGIN:VEVENT
UID:ical-2026-10-16-2197
DTSTART:20261016T173000Z
DTSTAMP:20260423T164535Z
LOCATION:Großes Haus
SUMMARY:Silent Echo
DESCRIPTION:
CREATED:20260423T164535Z
DTEND:20261016T173000Z
END:VEVENT
END:VCALENDAR
