BEGIN:VCALENDAR
PRODID:-//spiritec//spiritec media library//EN
VERSION:2.0
METHOD:PUBLISH
BEGIN:VEVENT
UID:ical-2027-01-17-2198
DTSTART:20270117T170000Z
DTSTAMP:20260423T164535Z
LOCATION:Großes Haus
SUMMARY:Silent Echo
DESCRIPTION:
CREATED:20260423T164535Z
DTEND:20270117T170000Z
END:VEVENT
END:VCALENDAR
