BEGIN:VCALENDAR
PRODID:-//spiritec//spiritec media library//EN
VERSION:2.0
METHOD:PUBLISH
BEGIN:VEVENT
UID:ical-2026-09-11-2200
DTSTART:20260911T173000Z
DTSTAMP:20260423T180349Z
LOCATION:Großes Haus
SUMMARY:Tosca
DESCRIPTION:
CREATED:20260423T180349Z
DTEND:20260911T202000Z
END:VEVENT
END:VCALENDAR
