BEGIN:VCALENDAR
PRODID:-//spiritec//spiritec media library//EN
VERSION:2.0
METHOD:PUBLISH
BEGIN:VEVENT
UID:ical-2026-09-25-2201
DTSTART:20260925T173000Z
DTSTAMP:20260423T150828Z
LOCATION:Großes Haus
SUMMARY:Tosca
DESCRIPTION:
CREATED:20260423T150828Z
DTEND:20260925T202000Z
END:VEVENT
END:VCALENDAR
