BEGIN:VCALENDAR
PRODID:-//spiritec//spiritec media library//EN
VERSION:2.0
METHOD:PUBLISH
BEGIN:VEVENT
UID:ical-2026-11-01-2202
DTSTART:20261101T170000Z
DTSTAMP:20260423T164535Z
LOCATION:Großes Haus
SUMMARY:Tosca
DESCRIPTION:
CREATED:20260423T164535Z
DTEND:20261101T195000Z
END:VEVENT
END:VCALENDAR
