BEGIN:VCALENDAR
PRODID:-//spiritec//spiritec media library//EN
VERSION:2.0
METHOD:PUBLISH
BEGIN:VEVENT
UID:ical-2026-10-03-2206
DTSTART:20261003T173000Z
DTSTAMP:20260423T171750Z
LOCATION:Großes Haus
SUMMARY:La traviata
DESCRIPTION:
CREATED:20260423T171750Z
DTEND:20261003T200000Z
END:VEVENT
END:VCALENDAR
