BEGIN:VCALENDAR
PRODID:-//spiritec//spiritec media library//EN
VERSION:2.0
METHOD:PUBLISH
BEGIN:VEVENT
UID:ical-2026-09-05-2211
DTSTART:20260905T160000Z
DTSTAMP:20260423T202622Z
LOCATION:Großes Haus
SUMMARY:Die Zauberflöte
DESCRIPTION:
CREATED:20260423T202622Z
DTEND:20260905T185000Z
END:VEVENT
END:VCALENDAR
