BEGIN:VCALENDAR
PRODID:-//spiritec//spiritec media library//EN
VERSION:2.0
METHOD:PUBLISH
BEGIN:VEVENT
UID:ical-2026-09-13-2212
DTSTART:20260913T140000Z
DTSTAMP:20260423T171750Z
LOCATION:Großes Haus
SUMMARY:Die Zauberflöte
DESCRIPTION:
CREATED:20260423T171750Z
DTEND:20260913T165000Z
END:VEVENT
END:VCALENDAR
