BEGIN:VCALENDAR
PRODID:-//spiritec//spiritec media library//EN
VERSION:2.0
METHOD:PUBLISH
BEGIN:VEVENT
UID:ical-2027-06-04-2216
DTSTART:20270604T173000Z
DTSTAMP:20260423T164553Z
LOCATION:Großes Haus
SUMMARY:Die Zauberflöte
DESCRIPTION:
CREATED:20260423T164553Z
DTEND:20270604T202000Z
END:VEVENT
END:VCALENDAR
